View In:
ArcGIS JavaScript
ArcGIS Online Map Viewer
ArcGIS Earth
ArcGIS Pro
Service Description:
Map Name: CFEM_FEMAFloodZones
Legend
All Layers and Tables
Dynamic Legend
Dynamic All Layers
Layers:
Description: This map service was created to support the National Oceanic and Atmospheric Administration (NOAA) Office for Coastal Management’s (OCM) Coastal Flood Exposure Mapper. The purpose of the online mapping tool is to provide coastal managers, planners, and stakeholders a preliminary look at exposures to coastal flooding hazards. The Mapper is a screening-level tool that uses nationally consistent data sets and analyses. Data and maps provided can be used at several scales to help communities initiate resilience planning efforts. Currently the extent of this map service and the Coastal Flood Exposure Mapper is limited to U.S. coastal counties along the Gulf of Mexico and Atlantic Ocean. The purpose of this map service is to depict high-risk (1% annual chance, or 100-year floodplain) and moderate-risk (0.2% annual chance, or 500-year floodplain) flood zones designated by the Federal Emergency Management Agency (FEMA). Data in this map service represent a composite of best available National Flood Hazard Layer (NFHL) and digital Q3 data, as of April 2015. Visit FEMA’s Map Service Center to access NFHL products. This is a cached map service. Tiles have been cached down to Level ID 15 (1:18,055).
The dataset should be used only as a screening-level tool for management decisions. As with all remotely sensed data, all features should be verified with a site visit. The dataset is provided "as is," without warranty to its performance, merchantable state, or fitness for any particular purpose. The entire risk associated with the results and performance of this dataset is assumed by the user. This dataset should be used strictly as a planning reference and not for navigation, permitting, or other legal purposes.
For more information, visit the Coastal Flood Exposure Mapper (https://coast.noaa.gov/floodexposure).
Send questions or comments to the NOAA Office for Coastal Management (coastal.info@noaa.gov).
Service Item Id: 40aa82e694774475a44b6386abb3a6c8
Copyright Text: NOAA Office for Coastal Management
Spatial Reference:
102100
(3857)
LatestVCSWkid(0)
Single Fused Map Cache: true
Tile Info:
- Height: 256.0
- Width: 256.0
- DPI: 96.0
-
Levels of Detail: 24
-
Level ID: 1
[ Start Tile, End Tile ]
- Resolution: 78271.5169639999
- Scale: 2.95828763795777E8
-
Level ID: 2
[ Start Tile, End Tile ]
- Resolution: 39135.7584820001
- Scale: 1.47914381897889E8
-
Level ID: 3
[ Start Tile, End Tile ]
- Resolution: 19567.8792409999
- Scale: 7.3957190948944E7
-
Level ID: 4
[ Start Tile, End Tile ]
- Resolution: 9783.93962049996
- Scale: 3.6978595474472E7
-
Level ID: 5
[ Start Tile, End Tile ]
- Resolution: 4891.96981024998
- Scale: 1.8489297737236E7
- Format: PNG8
- Compression Quality: 0.0
- Origin: X: -2.0037508342787E7
Y: 2.0037508342787E7
- Spatial Reference: 102100
(3857)
LatestVCSWkid(0)
Storage Info:
- Storage Format: esriMapCacheStorageModeCompactV2
- Packet Size: 128
Initial Extent:
XMin: -1.7280801450512655E7
YMin: -2684287.8768321397
XMax: 1289115.9491962716
YMax: 1.036748757691481E7
Spatial Reference: 102100
(0)
LatestVCSWkid(0)
Full Extent:
XMin: -1.9951916483726785E7
YMin: -1643353.7324924252
XMax: 1.6269834838118928E7
YMax: 1.1554352621480208E7
Spatial Reference: 102100
(0)
LatestVCSWkid(0)
Units: esriMeters
Supported Image Format Types: PNG32,PNG24,PNG,JPG,DIB,TIFF,EMF,PS,PDF,GIF,SVG,SVGZ,BMP
Document Info:
Title: CFEM_FEMAFloodZones
Author:
Comments: This map service was created to support the National Oceanic and Atmospheric Administration (NOAA) Office for Coastal Management’s (OCM) Coastal Flood Exposure Mapper. The purpose of the online mapping tool is to provide coastal managers, planners, and stakeholders a preliminary look at exposures to coastal flooding hazards. The Mapper is a screening-level tool that uses nationally consistent data sets and analyses. Data and maps provided can be used at several scales to help communities initiate resilience planning efforts. Currently the extent of this map service and the Coastal Flood Exposure Mapper is limited to U.S. coastal counties along the Gulf of Mexico and Atlantic Ocean. The purpose of this map service is to depict high-risk (1% annual chance, or 100-year floodplain) and moderate-risk (0.2% annual chance, or 500-year floodplain) flood zones designated by the Federal Emergency Management Agency (FEMA). Data in this map service represent a composite of best available National Flood Hazard Layer (NFHL) and digital Q3 data, as of April 2015. Visit FEMA’s Map Service Center to access NFHL products. This is a cached map service. Tiles have been cached down to Level ID 15 (1:18,055).
The dataset should be used only as a screening-level tool for management decisions. As with all remotely sensed data, all features should be verified with a site visit. The dataset is provided "as is," without warranty to its performance, merchantable state, or fitness for any particular purpose. The entire risk associated with the results and performance of this dataset is assumed by the user. This dataset should be used strictly as a planning reference and not for navigation, permitting, or other legal purposes.
For more information, visit the Coastal Flood Exposure Mapper (https://coast.noaa.gov/floodexposure).
Send questions or comments to the NOAA Office for Coastal Management (coastal.info@noaa.gov).
Subject: Map service to support the Coastal Flood Exposure Mapper.
Category:
Keywords: Coastal
AntialiasingMode: Fast
TextAntialiasingMode: Force
Supports Dynamic Layers: true
MaxRecordCount: 2000
MaxSelectionCount: 2000
MaxImageHeight: 4096
MaxImageWidth: 4096
Supported Query Formats: JSON, geoJSON, PBF
Supports Query Data Elements: true
Min Scale: 5.91657527591555E8
Max Scale: 4513.988705
Supports Datum Transformation: true
Child Resources:
Info
Dynamic Layer
Supported Operations:
Export Map
Identify
QueryLegends
QueryDomains
Find
Return Updates