View In:
ArcGIS JavaScript
ArcGIS Online Map Viewer
ArcGIS Earth
Service Description: Imagery/3Band_CIR_8Bit_Imagery
Name: Imagery/3Band_CIR_8Bit_Imagery
Description:
Single Fused Map Cache: false
Extent:
XMin: -1.08888693087E7
YMin: 2022584.311200079
XMax: -7259806.808700098
YMax: 5102468.611199997
Spatial Reference: 102100
(3857)
Initial Extent:
XMin: -1.08888693087E7
YMin: 2022584.311200079
XMax: -7259806.808700098
YMax: 5102468.611199997
Spatial Reference: 102100
(3857)
Full Extent:
XMin: -1.08888693087E7
YMin: 2022584.311200079
XMax: -7259806.808700098
YMax: 5102468.611199997
Spatial Reference: 102100
(3857)
Pixel Size X: 0.299999999999992
Pixel Size Y: 0.29999999999999205
Band Count: 3
Pixel Type: U8
RasterFunction Infos: {"rasterFunctionInfos": [{
"name": "None",
"description": "",
"help": ""
}]}
Mensuration Capabilities: Basic
Has Histograms: false
Has Colormap: false
Has Multi Dimensions : false
Rendering Rule:
Min Scale: 0
Max Scale: 0
Copyright Text:
Service Data Type: esriImageServiceDataTypeProcessed
Min Values: N/A
Max Values: N/A
Mean Values: N/A
Standard Deviation Values: N/A
Object ID Field: OBJECTID
Fields:
-
OBJECTID
(
type: esriFieldTypeOID, alias: OBJECTID
)
-
Shape
(
type: esriFieldTypeGeometry, alias: Shape
)
-
Name
(
type: esriFieldTypeString, alias: Name, length: 200
)
-
MinPS
(
type: esriFieldTypeDouble, alias: MinPS
)
-
MaxPS
(
type: esriFieldTypeDouble, alias: MaxPS
)
-
LowPS
(
type: esriFieldTypeDouble, alias: LowPS
)
-
HighPS
(
type: esriFieldTypeDouble, alias: HighPS
)
-
Category
(
type: esriFieldTypeInteger, alias: Category
,
Coded Values:
[0: Unknown]
,
[1: Primary]
,
[2: Overview]
, ...6 more...
)
-
Tag
(
type: esriFieldTypeString, alias: Tag, length: 100
)
-
GroupName
(
type: esriFieldTypeString, alias: GroupName, length: 100
)
-
ProductName
(
type: esriFieldTypeString, alias: ProductName, length: 100
)
-
CenterX
(
type: esriFieldTypeDouble, alias: CenterX
)
-
CenterY
(
type: esriFieldTypeDouble, alias: CenterY
)
-
ZOrder
(
type: esriFieldTypeInteger, alias: ZOrder
)
-
Shape_Length
(
type: esriFieldTypeDouble, alias: Shape_Length
)
-
Shape_Area
(
type: esriFieldTypeDouble, alias: Shape_Area
)
-
Mission
(
type: esriFieldTypeInteger, alias: Mission
)
-
dataset_id
(
type: esriFieldTypeString, alias: dataset_id, length: 50
)
-
Name_1
(
type: esriFieldTypeString, alias: Name_1, length: 200
)
-
Year
(
type: esriFieldTypeInteger, alias: Year
)
-
Metalink
(
type: esriFieldTypeString, alias: Metalink, length: 326
)
-
Resolution
(
type: esriFieldTypeDouble, alias: Resolution
)
-
Sensor
(
type: esriFieldTypeString, alias: Sensor, length: 50
)
-
Horizontal_Accuracy
(
type: esriFieldTypeString, alias: Horizontal_Accuracy, length: 313
)
-
TideControlled
(
type: esriFieldTypeString, alias: TideControlled, length: 3
)
Default Mosaic Method: Northwest
Allowed Mosaic Methods: NorthWest,Center,LockRaster,ByAttribute,Nadir,Viewpoint,Seamline,None
SortField:
SortValue: null
Mosaic Operator: First
Default Compression Quality: 75
Default Resampling Method: Bilinear
Max Record Count: 1000
Max Image Height: 4100
Max Image Width: 15000
Max Download Image Count: 20
Max Mosaic Image Count: 100
Allow Raster Function: true
Allow Copy: true
Allow Analysis: true
Allow Compute TiePoints: false
Supports Statistics: true
Supports Advanced Queries: true
Use StandardizedQueries: true
Raster Type Infos:
Name: Raster Dataset
Description: Supports all ArcGIS Raster Datasets
Help:
Has Raster Attribute Table: false
Edit Fields Info: null
Ownership Based AccessControl For Rasters: null
Child Resources:
Info
Statistics
Key Properties
Legend
Raster Function Infos
Supported Operations:
Export Image
Query
Identify
Measure
Compute Histograms
Compute Statistics Histograms
Get Samples
Compute Class Statistics
Query Boundary
Compute Pixel Location
Compute Angles
Validate
Project